BEGIN:VCALENDAR
VERSION:2.0
PRODID:-//Transition Bath - ECPv6.15.18//NONSGML v1.0//EN
CALSCALE:GREGORIAN
METHOD:PUBLISH
X-WR-CALNAME:Transition Bath
X-ORIGINAL-URL:https://transitionbath.org
X-WR-CALDESC:Events for Transition Bath
REFRESH-INTERVAL;VALUE=DURATION:PT1H
X-Robots-Tag:noindex
X-PUBLISHED-TTL:PT1H
BEGIN:VTIMEZONE
TZID:Europe/London
BEGIN:DAYLIGHT
TZOFFSETFROM:+0000
TZOFFSETTO:+0100
TZNAME:BST
DTSTART:20220327T010000
END:DAYLIGHT
BEGIN:STANDARD
TZOFFSETFROM:+0100
TZOFFSETTO:+0000
TZNAME:GMT
DTSTART:20221030T010000
END:STANDARD
BEGIN:DAYLIGHT
TZOFFSETFROM:+0000
TZOFFSETTO:+0100
TZNAME:BST
DTSTART:20230326T010000
END:DAYLIGHT
BEGIN:STANDARD
TZOFFSETFROM:+0100
TZOFFSETTO:+0000
TZNAME:GMT
DTSTART:20231029T010000
END:STANDARD
BEGIN:DAYLIGHT
TZOFFSETFROM:+0000
TZOFFSETTO:+0100
TZNAME:BST
DTSTART:20240331T010000
END:DAYLIGHT
BEGIN:STANDARD
TZOFFSETFROM:+0100
TZOFFSETTO:+0000
TZNAME:GMT
DTSTART:20241027T010000
END:STANDARD
END:VTIMEZONE
BEGIN:VEVENT
DTSTART;TZID=Europe/London:20230920T103000
DTEND;TZID=Europe/London:20230920T133000
DTSTAMP:20260419T194221
CREATED:20230801T114211Z
LAST-MODIFIED:20230801T114211Z
UID:3863-1695205800-1695216600@transitionbath.org
SUMMARY:Bathscape Walking Festival - Community Green Fingers Walk
DESCRIPTION:As part of the Bathscape Walking Festival\, Transition Bath will be leading a walk that explores community involvement in growing trees and crops. \nFrom Lansdown P&R we take a level walk through fields with stunning views over Weston and the distant countryside\, before dropping down through fields to Primrose Hill Community Woodland. We’ll meet one of the woodland volunteers who will give a brief history from the millennium planting\, and take us on a ramble through the 14 acre woodland. The wood is rich with trees\, undergrowth and wildlife\, criss-crossed by paths and has useful information boards – a delight for people of all ages. \nWe anticipate spending about an hour exploring the woodland\, then will walk on down through quiet private roads (with one very short\, busy section) to visit a community garden in Park Street\, and meet some gardeners. From there\, we will walk through streets to end on the Gravel Walk\, finishing near Queen Square\, from where it is a short walk to the Milsom Street bus stop for those who need the bus back to Lansdown P&R. \nLocation: Starting at Lansdown Park and Ride\, finishing near Queen Square.
URL:https://transitionbath.org/event/bathscape-walking-festival-community-green-fingers-walk/
LOCATION:Lansdown Park & Ride\, Lansdown Park & Ride\, Bath\, BA1 9BJ\, United Kingdom
ATTACH;FMTTYPE=image/jpeg:https://transitionbath.org/wp-content/uploads/2023/08/20230712_133628.jpg
END:VEVENT
BEGIN:VEVENT
DTSTART;TZID=Europe/London:20230910T140000
DTEND;TZID=Europe/London:20230910T160000
DTSTAMP:20260419T194221
CREATED:20230801T113719Z
LAST-MODIFIED:20230801T115242Z
UID:3854-1694354400-1694361600@transitionbath.org
SUMMARY:Bathscape Walking Festival - Food on Our Plates Walk
DESCRIPTION:As part of the Bathscape Walking Festival\, Transition Bath is leading a walk that celebrates growing sites where local people tend crops to end up on their dinner plate. \nThe first visit is to the new Roots allotment site at Newbridge\, where individual plot holders grow for their own use. After an introduction to this organic\, no-dig site\, we‘ll join the riverside path back to near the city centre\, with a brief summary of points of historical interest along the way. \nThe second visit is to the well-established community garden of Bath Organic Group at the Lower Common site. Here people grow and share crops\, as well as creating surpluses for the monthly Farmers’ Market stall. \nLocation: The walk is three miles\, starting at Newbridge Park & Ride and finishing at the Lower Common site\, on the Upper Bristol Road (where you can get the bus back to the P&R).
URL:https://transitionbath.org/event/bathscape-walking-festival-food-on-our-plates-walk/
LOCATION:Newbridge Park & Ride\, Newbridge Park & Ride\, Bath\, BA1 3NB
ATTACH;FMTTYPE=image/jpeg:https://transitionbath.org/wp-content/uploads/2023/08/WhatsApp-Image-2023-07-28-at-17.41.00.jpeg
END:VEVENT
BEGIN:VEVENT
DTSTART;TZID=Europe/London:20230904T181500
DTEND;TZID=Europe/London:20230904T210000
DTSTAMP:20260419T194221
CREATED:20230815T102855Z
LAST-MODIFIED:20230815T110108Z
UID:3926-1693851300-1693861200@transitionbath.org
SUMMARY:"My Extinction" - Green Screen at The Little Theatre Cinema
DESCRIPTION:‘Green Screen’ is a new strand at ‘The Little’ that aims to bring the best of environmentally conscious cinema to our screens\, whilst encouraging conversation and connection between local environmental groups and individuals. \nGreen Screenings take the format of a screening of a film\, followed by a half an hour Q&A with a local panel\, leading onto an informal discussion of the film in ‘The Little’s’ event space. \nThe next Green Screen will be My Extinction on Mon 4th September. \nSynopsis\nWhat does it take for us to act on the climate crisis – especially if we’re the kind of person who should already be acting? \nIn this funny\, relatable portrait\, a concerned yet ineffectual dad finds the first step is letting those unbearable feelings of climate anxiety in\, instead of pushing them aside. \nBut as he meets others like him\, he discovers how oil-backed propagandists funded our denial and paralysis. They set out to unmask the vested interests responsible\, helping raise a generation’s leading authors in vibrant chorus at the game-changing Tufton Street protest. \nMy Extinction is a revealingly honest account of how to feel your feelings\, act on your privilege\, and get active when threatened with extinction. \nBook now
URL:https://transitionbath.org/event/my-extinction-green-screen-at-the-little-theatre-cinema/
LOCATION:The Little Theatre\, St Michael's Place\, Bath\, BA1 1SF\, United Kingdom
ATTACH;FMTTYPE=image/jpeg:https://transitionbath.org/wp-content/uploads/2023/08/My-extinction.jpg
END:VEVENT
BEGIN:VEVENT
DTSTART;TZID=Europe/London:20230820T120000
DTEND;TZID=Europe/London:20230820T140000
DTSTAMP:20260419T194221
CREATED:20230622T204349Z
LAST-MODIFIED:20230623T055600Z
UID:3796-1692532800-1692540000@transitionbath.org
SUMMARY:Community Picnic at Smallcombe Nuttery
DESCRIPTION:Here we picnic round the mulberry bush! \nThe mulberries will be ripe for picking\, so come along and try some for yourself. There are also cobnuts\, walnuts\, almonds and sweet chestnuts and even a medlar tree. Cakes will also be available on the day! \nBring a picnic and enjoy the beautiful setting of the nuttery\, planted on National Trust land\, beside the Skyline Walk at Smallcombe. \nThe nuttery can only be reached on foot. See the map below for directions.
URL:https://transitionbath.org/event/community-picnic-at-smallcombe-nuttery/
LOCATION:Smallcombe Nuttery\, Horseshoe Walk\, Bath\, BA2 6DD\, United Kingdom
ATTACH;FMTTYPE=image/jpeg:https://transitionbath.org/wp-content/uploads/2023/06/Here-we-go-round-the-mulberry-bush-Letter.jpg
END:VEVENT
END:VCALENDAR